BEGIN:VCALENDAR
VERSION:2.0
PRODID:-//Library Market//iCal Export//EN
BEGIN:VEVENT
SUMMARY:T-Rex Tea Party
UID:3360
DTSTAMP:20260424T214800Z
DTSTART:20260730T140000Z
DTEND:20260730T160000Z
LOCATION:Allendale Township Library, 6175 Library Ln, Allendale, MI 49401,
  United States
ROOM: Meeting Room
DESCRIPTION:You are cordially invited to our T-Rex Tea Party! Bring your f
 inest manners and fiercest roar! Participants will enjoy tea, snacks, craf
 ts, and more with real life (blow up) T-Rexes. Dinosaur and/or tea party a
 ttire is encouraged. For youth of all ages.
URL:https://www.allendalelibrary.org/event/t-rex-tea-party-3360
END:VEVENT
END:VCALENDAR
