BEGIN:VCALENDAR
VERSION:2.0
PRODID:-//Library Market//iCal Export//EN
BEGIN:VEVENT
SUMMARY:Summer Reading Kickoff: Magic Show
UID:3361
DTSTAMP:20260423T184900Z
DTSTART:20260608T140000Z
DTEND:20260608T150000Z
LOCATION:Allendale Community Park, 11069 68th Ave, Allendale, MI 49401, Un
 ited States
ROOM: Allendale Community Park
DESCRIPTION:Join us for a morning of amazement and fun with comedy magicia
 n &amp; entertainer, Cameron Zvara! The show will be filled with mind blow
 ing magic, squeaky clean comedy, and tons of audience participation. For a
 ll ages. This program will take place at the Allendale Community Park (11
 069 68th Ave).
URL:https://www.allendalelibrary.org/event/cameron-zvara-3361
END:VEVENT
END:VCALENDAR
