BEGIN:VCALENDAR
VERSION:2.0
PRODID:-//Library Market//iCal Export//EN
BEGIN:VEVENT
SUMMARY:Dinosaurs of Today with Outdoor Discovery Center
UID:3362
DTSTAMP:20260424T134500Z
DTSTART:20260625T140000Z
DTEND:20260625T150000Z
LOCATION:Allendale Community Park, 11069 68th Ave, Allendale, MI 49401, Un
 ited States
ROOM: Allendale Community Park
DESCRIPTION:Are there dinosaurs hiding right here in Michigan? You might b
 e surprised! Step back in time, and we’ll learn about what made dinosaur
 s so unique and exciting. Then, leap forward to today, and we’ll meet di
 nosaur relatives and neighbors in real life! Presented by Outdoor Discover
 y Center. For all ages.This program will take place at the Allendale Commu
 nity Park (11069 68th Ave).
URL:https://www.allendalelibrary.org/event/odc-3362
END:VEVENT
END:VCALENDAR
