BEGIN:VCALENDAR
VERSION:2.0
PRODID:-//Library Market//iCal Export//EN
BEGIN:VEVENT
SUMMARY:Foam Party
UID:3377
DTSTAMP:20260424T182700Z
DTSTART:20260715T170000Z
DTEND:20260715T180000Z
LOCATION:Allendale Community Park, 11069 68th Ave, Allendale, MI 49401, Un
 ited States
ROOM: Allendale Community Park
DESCRIPTION:Dive into bubbly bliss at our foam party! Please bring a towel
  and wear clothes that can get wet. For youth of all ages.This program wil
 l take place at the Allendale Community Park (11069 68th Ave). 
URL:https://www.allendalelibrary.org/event/foam-party-3377
END:VEVENT
END:VCALENDAR
