BEGIN:VCALENDAR
VERSION:2.0
PRODID:-//Library Market//iCal Export//EN
BEGIN:VEVENT
SUMMARY:Drawing Class: Dinosaurs
UID:3609
DTSTAMP:20260424T214800Z
DTSTART:20260728T193000Z
DTEND:20260728T203000Z
LOCATION:Allendale Township Library, 6175 Library Ln, Allendale, MI 49401,
  United States
ROOM: Meeting Room
DESCRIPTION:Using basic shapes, line techniques and shading, learn to crea
 te imaginative characters, creatures and scenery. No prior drawing experi
 ence needed. Taught by local illustrator, Corinne Roberts. For ages 6+. R
 egistration required.
URL:https://www.allendalelibrary.org/event/drawing-class-dinosaurs-3609
END:VEVENT
END:VCALENDAR
