BEGIN:VCALENDAR
VERSION:2.0
PRODID:-//Library Market//iCal Export//EN
BEGIN:VEVENT
SUMMARY:Move! with Ivy Rehab
UID:3610
DTSTAMP:20260424T201100Z
DTSTART:20260723T140000Z
DTEND:20260723T150000Z
LOCATION:Allendale Community Park, 11069 68th Ave, Allendale, MI 49401, Un
 ited States
ROOM: Allendale Community Park
DESCRIPTION:Move with our friends from Ivy Rehab and get some wiggles out.
  This active movement program will work on strength, coordination, and fle
 xibility while having fun! For youth of all ages.This program will take pl
 ace at the Allendale Community Park (11069 68th Ave). 
URL:https://www.allendalelibrary.org/event/move-ivy-rehab-3610
END:VEVENT
END:VCALENDAR
