BEGIN:VCALENDAR
VERSION:2.0
PRODID:-//Library Market//iCal Export//EN
BEGIN:VEVENT
SUMMARY:Mindful Movement for Kids
UID:3631
DTSTAMP:20260423T190600Z
DTSTART:20260623T170000Z
DTEND:20260623T180000Z
LOCATION:Allendale Township Library, 6175 Library Ln, Allendale, MI 49401,
  United States
ROOM: Meeting Room
DESCRIPTION:Join us for a fun, interactive mindfulness program led by Ivy 
 Rehab! Through gentle movement, breathing exercises, and playful activitie
 s, kids will learn simple tools to help calm their bodies, focus their min
 ds, and manage big feelings. For youth of all ages.
URL:https://www.allendalelibrary.org/event/ivy-rehab-yogamindfulness-3631
END:VEVENT
END:VCALENDAR
