BEGIN:VCALENDAR
VERSION:2.0
PRODID:-//Library Market//iCal Export//EN
BEGIN:VEVENT
SUMMARY:Touch a Truck
UID:3683
DTSTAMP:20260423T181000Z
DTSTART:20260805T220000Z
DTEND:20260806T000000Z
LOCATION:Allendale Community Park, 11069 68th Ave, Allendale, MI 49401, Un
 ited States
ROOM: Allendale Community Park
DESCRIPTION:Check out big trucks and the amazing operators that keep our c
 ommunity working. Learn and explore together! The firefighters will spray 
 water from their engine at the end of this program; feel free to wear clot
 hing you don&#039;t mind getting wet and/or bring a towel. For all ages.Th
 is program will take place at the Allendale Community Park (11069 68th Ave
 ). 
URL:https://www.allendalelibrary.org/event/touch-truck-3683
END:VEVENT
END:VCALENDAR
