BEGIN:VCALENDAR
VERSION:2.0
PRODID:-//Library Market//iCal Export//EN
BEGIN:VEVENT
SUMMARY:Boba &amp; Beads
UID:3764
DTSTAMP:20260423T223200Z
DTSTART:20260611T180000Z
DTEND:20260611T190000Z
LOCATION:Allendale Township Library, 6175 Library Ln, Allendale, MI 49401,
  United States
ROOM: Meeting Room
DESCRIPTION:Join us for an afternoon of boba tea and beaded crafts! All ma
 terials will be provided. For ages 11-18. Registration required.
URL:https://www.allendalelibrary.org/event/boba-beads-3764
END:VEVENT
END:VCALENDAR
