BEGIN:VCALENDAR
VERSION:2.0
PRODID:-//Library Market//iCal Export//EN
BEGIN:VEVENT
SUMMARY:Pringles Taste Test (for Teens)
UID:3766
DTSTAMP:20260423T210400Z
DTSTART:20260803T180000Z
DTEND:20260803T190000Z
LOCATION:Allendale Township Library, 6175 Library Ln, Allendale, MI 49401,
  United States
ROOM: Pringles Taste Test (for Teens)
DESCRIPTION:Do you have what it... tastes? Join us for a taste testing of 
 Pringles flavors. Food allergens may be present. For ages 11-18. Registrat
 ion required. 
URL:https://www.allendalelibrary.org/event/taste-test-teens-3766
END:VEVENT
END:VCALENDAR
