BEGIN:VCALENDAR
VERSION:2.0
PRODID:-//Library Market//iCal Export//EN
BEGIN:VEVENT
SUMMARY:Maker Monday
UID:3767
DTSTAMP:20260423T184900Z
DTSTART:20260615T180000Z
DTEND:20260615T200000Z
LOCATION:Allendale Township Library, 6175 Library Ln, Allendale, MI 49401,
  United States
ROOM: Meeting Room
DESCRIPTION:Drop in anytime between 2 and 4 PM to channel your inner scien
 tist, artist, or inventor and see what you can create! All materials provi
 ded. For ages 6+.
URL:https://www.allendalelibrary.org/event/tinker-tuesday-3767
END:VEVENT
END:VCALENDAR
