BEGIN:VCALENDAR
VERSION:2.0
PRODID:-//Library Market//iCal Export//EN
BEGIN:VEVENT
SUMMARY:4th of July Drop-In Craft
UID:3768
DTSTAMP:20260424T152700Z
DTSTART:20260701T190000Z
DTEND:20260701T230000Z
LOCATION:Allendale Township Library, 6175 Library Ln, Allendale, MI 49401,
  United States
ROOM: Meeting Room
DESCRIPTION:Drop in anytime between 3 and 7 PM to make a 4th of July wreat
 h! All supplies provided. For youth of all ages.
URL:https://www.allendalelibrary.org/event/4th-july-drop-craft-3768
END:VEVENT
END:VCALENDAR
