BEGIN:VCALENDAR
VERSION:2.0
PRODID:-//Library Market//iCal Export//EN
BEGIN:VEVENT
SUMMARY:Dinosaur Bingo
UID:3769
DTSTAMP:20260423T184900Z
DTSTART:20260613T140000Z
DTEND:20260613T150000Z
LOCATION:Allendale Township Library, 6175 Library Ln, Allendale, MI 49401,
  United States
ROOM: Meeting Room
DESCRIPTION:Stomp, roar, and shout “BINGO!” Join us for Dinosaur Bingo
 , a dino-tastic program filled with prehistoric fun. Kids will play bingo 
 using dinosaur images, learn cool facts along the way, and have a chance t
 o win small prizes. For youth of all ages. Registration required. Please r
 egister each child attending individually.
URL:https://www.allendalelibrary.org/event/movie-3769
END:VEVENT
END:VCALENDAR
