BEGIN:VCALENDAR
VERSION:2.0
PRODID:-//Library Market//iCal Export//EN
BEGIN:VEVENT
SUMMARY:Engineering Ice Cream - Session 2
UID:3909
DTSTAMP:20260424T201100Z
DTSTART:20260722T193000Z
DTEND:20260722T203000Z
LOCATION:Allendale Township Library, 6175 Library Ln, Allendale, MI 49401,
  United States
ROOM: Meeting Room
DESCRIPTION:Explore the journey of milk from cow to ice cream, make ice cr
 eam in a bag, and discover how food engineers have developed processes for
  making ice cream. Program brought to you by Agriculture in the Classroom.
  For ages 6-10. Registration required.
URL:https://www.allendalelibrary.org/event/engineering-ice-cream-session-2
 -3909
END:VEVENT
END:VCALENDAR
