BEGIN:VCALENDAR
VERSION:2.0
PRODID:-//Library Market//iCal Export//EN
BEGIN:VEVENT
SUMMARY:Friday Flick
UID:4188
DTSTAMP:20260424T165400Z
DTSTART:20260710T173000Z
DTEND:20260710T193000Z
LOCATION:Allendale Township Library, 6175 Library Ln, Allendale, MI 49401,
  United States
ROOM: Meeting Room
DESCRIPTION:Beat the heat with a Friday flick! Popcorn and water will be p
 rovided, while supplies last. For all ages.
URL:https://www.allendalelibrary.org/event/friday-flick-4188
END:VEVENT
END:VCALENDAR
