BEGIN:VCALENDAR
VERSION:2.0
PRODID:-//Library Market//iCal Export//EN
BEGIN:VEVENT
SUMMARY:Moms with Moms Group
UID:4222
DTSTAMP:20260419T215200Z
DTSTART:20260918T140000Z
DTEND:20260918T150000Z
LOCATION:Allendale Township Library, 6175 Library Ln, Allendale, MI 49401,
  United States
ROOM: Meeting Room
DESCRIPTION:All moms and children welcome! Join this maternal support grou
 p for play time and bonding with other mothers. Includes free coffee and t
 ea.
URL:https://www.allendalelibrary.org/event/moms-moms-group-4222
END:VEVENT
END:VCALENDAR
