BEGIN:VCALENDAR
VERSION:2.0
PRODID:-//Library Market//iCal Export//EN
BEGIN:VEVENT
SUMMARY:Moms with Moms Group
UID:4231
DTSTAMP:20260419T204500Z
DTSTART:20261120T150000Z
DTEND:20261120T160000Z
LOCATION:Allendale Township Library, 6175 Library Ln, Allendale, MI 49401,
  United States
ROOM: Meeting Room
DESCRIPTION:All moms and children welcome! Join this maternal support grou
 p for play time and bonding with other mothers. Includes free coffee and t
 ea.
URL:https://www.allendalelibrary.org/event/moms-moms-group-4231
END:VEVENT
END:VCALENDAR
