BEGIN:VCALENDAR
VERSION:2.0
PRODID:-//Library Market//iCal Export//EN
BEGIN:VEVENT
SUMMARY:Lunches at the Library
UID:4262
DTSTAMP:20260423T131100Z
DTSTART:20260810T150000Z
DTEND:20260810T160000Z
LOCATION:Allendale Township Library, 6175 Library Ln, Allendale, MI 49401,
  United States
ROOM: Lunches at the Library
DESCRIPTION:Keeping young minds engaged and learning is as essential as fu
 eling growing bodies, so we are partnering with Feeding America of West Mi
 chigan this summer to provide free lunches to students through their &quot
 ;Gather 2 Grow&quot; program. Kids ages 0-18 (or up to age 26 for people w
 ith disabilities) can enjoy a nutritious lunches throughout the summer. Av
 ailable every Monday, Tuesday, and Friday from 11 AM-12 PM (excluding July
  3).
URL:https://www.allendalelibrary.org/event/gather-2-grow-4262
END:VEVENT
END:VCALENDAR
