BEGIN:VCALENDAR
VERSION:2.0
PRODID:-//Library Market//iCal Export//EN
BEGIN:VEVENT
SUMMARY:Library Playdate: Dinosaur Day
UID:4275
DTSTAMP:20260424T182700Z
DTSTART:20260718T140000Z
DTEND:20260718T160000Z
LOCATION:Allendale Township Library, 6175 Library Ln, Allendale, MI 49401,
  United States
ROOM: Meeting Room
DESCRIPTION:Join us for a morning of Jurassic play anytime between 10 AM a
 nd 12 PM! Enjoy dinosaur themed activities and games, all while building e
 arly literacy skills. All ages are welcome with an accompanying grown-up.
URL:https://www.allendalelibrary.org/event/library-playdate-dinosaur-day-4
 275
END:VEVENT
END:VCALENDAR
